BEGIN:VCALENDAR
VERSION:2.0
PRODID:-//The Monkey Planet - España - ECPv6.1.2.2//NONSGML v1.0//EN
CALSCALE:GREGORIAN
METHOD:PUBLISH
X-WR-CALNAME:The Monkey Planet - España
X-ORIGINAL-URL:https://themonkeyplanet.es
X-WR-CALDESC:Eventos para The Monkey Planet - España
REFRESH-INTERVAL;VALUE=DURATION:PT1H
X-Robots-Tag:noindex
X-PUBLISHED-TTL:PT1H
BEGIN:VTIMEZONE
TZID:America/Lima
BEGIN:STANDARD
TZOFFSETFROM:-0500
TZOFFSETTO:-0500
TZNAME:-05
DTSTART:20230101T000000
END:STANDARD
END:VTIMEZONE
BEGIN:VEVENT
DTSTART;TZID=America/Lima:20230430T090000
DTEND;TZID=America/Lima:20230430T170000
DTSTAMP:20260424T125152
CREATED:20230419T231404Z
LAST-MODIFIED:20230425T220341Z
UID:34269-1682845200-1682874000@themonkeyplanet.es
SUMMARY:Monkey Cup - MTG - Invite #1 (Pioneer)
DESCRIPTION:¿Quieres ganar 01 invitaciones para la final de la Monkey Cup – MTG?\n¡Pues te presentamos este evento! \nEste Domingo 30 de Abril desde las 9am\, tendremos este Torneo en Formato Pioneer en Quito\, Ecuador; \n¿Qué es la Monkey Cup? \nLa Monkey Cup – MTG – es un torneo para coronar al campeón/a de la tienda en Quito.\nEs una serie de invitaciones (8 en Total para el 2023) que se jugaran 1 por mes hasta el mes de Diciembre. Para un Draft final. \n¿Qué premios otorga cada evento? \nCada torneo de invitación tiene sus propios premios\, que pueden ser entregados en crédito de tienda a ser consumido en el mismo día del evento o producto sellado (Según el tipo de evento). \nPero el evento final otorga un trofeo conmemorativo\, un playmat y una foto en nuestro muro de la historia. \n¿Cuántas rondas se juegan? \nJugaremos Rondas Suizas según el Número de Inscritos + Top 8 a un nivel de reglas Competitivo; \n¿Qué formato será? \nLos formatos son variados\, pero entre ellos tenemos a: Pioneer\, Modern y Sellado (Draft/Sealed) \n¿Quiénes pueden participar en la Monkey Cup? \nPueden participar todos los jugadores. Pero las invitaciones al draft final se pueden ganar una (1) sola vez. \n¿Qué pasa si ya estoy clasificado/a para la final en Diciembre? \nSi ya estas clasificado/a tu cupo pasa a la siguiente persona disponible para utilizarlo! \n¿Si clasifico en el primer qualifier\, puedo seguir jugando los siguientes? \nSí\, puedes jugar tantas veces quieras pero solo podrás ganar 1 invitación; \n¿Qué pasa si no puedo asistir a la final en Diciembre? \nEsperamos que si puedas asistir ya que es un evento totalmente GRATIS para ti! Y verdaderamente será una celebración. Hasta ya sabes cuando será para que vayas apartando la fecha (10 de Diciembre) \n¿Si clasifico en el primer qualifier\, puedo seguir jugando los siguientes? \nSí\, puedes jugar tantas veces quieras pero solo podrás ganar 1 invitación; \n¿Cómo es la estructura de la Monkey Cup? \nEl evento esta compuesto de 8 invitaciones para un Draft final. Cada invitacional otorga (01) cupo. \n¿Cuándo y dónde se jugará la final de la Monkey Cup? \nSe jugará la final el dia 10 de Diciembre del 2023. En el Local de Monkey Planet Quito \n¡No te pierdas de esta Fiesta organizada por tu Planeta Favorito\, The Monkey Planet! \nLes dejamos toda la información que deben saber sobre este evento: \nMonkey Cup – MTG – #1\nFormato: Pioneer\nLugar: The Monkey Planet Quito\nDirección:\nAv. América N36-213 y NNUU (Edificio Americas Parc Local #1) \nFecha:\nDomingo 30 de Abril 2023 \nRegistro:\n9am\nInicio:\n10am \nEl Itinerario del Evento es el siguiente:\n9am Apertura de Puertas y Registro en MTG Companion\n10am Bienvenida al Evento e Instrucciones del Juez Principal\n10:10am Primera Ronda\nCupo:\n16 Jugadores\nFormato:\nPioneer\nCosto: 25$\nInscripción VIP:\nNivel de Reglas:\nCompetitivo
URL:https://themonkeyplanet.es/event/monkey-cup-mtg-invite-1-pioneer/
LOCATION:The Monkey Planet – Quito\, Av. America N36 - 213 y Naciones Unidas\, Edificio Americas Parc\, Local 1\, Quito\, Pichincha\, Ecuador\, Quito\, Pichincha\, 17034\, Ecuador
CATEGORIES:Monkey Cup,MTG
ATTACH;FMTTYPE=image/png:https://themonkeyplanet.es/wp-content/uploads/2023/04/mONKEY-CUP.png
ORGANIZER;CN="The%20Monkey%20Planet%20-%20Ecuador":MAILTO:customerservice.ec@themonkeyplanet.com
END:VEVENT
END:VCALENDAR